Workbook

Sheet ND Sign in
A1: NORTHERN DISTRICT SIGN UP SHEET
A2: Tournament # Date: Location: Tournament Type:
A3: THIS SHEET IS FOR:- MEN [ } Ladies [ ] PROs [ ] AMs [ ]
A4: FOR SINGLES TOURNAMENTS JUST SKIP THE PARTNER LINE
A5: Entry# | B5: FSA# | C5: LAST NAME | D5: FIRST NAME | E5: CLUB | F5: FSA# | G5: LAST NAME | H5: FIRST NAME | I5: CLUB
A6: 1 | C6: =VLOOKUP($B6,FSADB!$A$1:$D$751,2,FALSE) -> #N/A | D6: =VLOOKUP($B6,FSADB!$A$1:$D$751,3,FALSE) -> #N/A | E6: =VLOOKUP($B6,FSADB!$A$1:$D$751,4,FALSE) -> #N/A | G6: =VLOOKUP($F6,FSADB!$A$1:$D$751,2,FALSE) -> #N/A | H6: =VLOOKUP($F6,FSADB!$A$1:$D$751,3,FALSE) -> #N/A | I6: =VLOOKUP($F6,FSADB!$A$1:$D$751,4,FALSE) -> #N/A
A7: =SUM(A6+1) -> 2 | C7: =VLOOKUP($B7,FSADB!$A$1:$D$751,2,FALSE) -> #N/A | D7: =VLOOKUP($B7,FSADB!$A$1:$D$751,3,FALSE) -> #N/A | E7: =VLOOKUP($B7,FSADB!$A$1:$D$751,4,FALSE) -> #N/A | G7: =VLOOKUP($F7,FSADB!$A$1:$D$751,2,FALSE) -> #N/A | H7: =VLOOKUP($F7,FSADB!$A$1:$D$751,3,FALSE) -> #N/A | I7: =VLOOKUP($F7,FSADB!$A$1:$D$751,4,FALSE) -> #N/A
A8: =SUM(A7+1) -> 3 | C8: =VLOOKUP($B8,FSADB!$A$1:$D$751,2,FALSE) -> #N/A | D8: =VLOOKUP($B8,FSADB!$A$1:$D$751,3,FALSE) -> #N/A | E8: =VLOOKUP($B8,FSADB!$A$1:$D$751,4,FALSE) -> #N/A | G8: =VLOOKUP($F8,FSADB!$A$1:$D$751,2,FALSE) -> #N/A | H8: =VLOOKUP($F8,FSADB!$A$1:$D$751,3,FALSE) -> #N/A | I8: =VLOOKUP($F8,FSADB!$A$1:$D$751,4,FALSE) -> #N/A
A9: =SUM(A8+1) -> 4 | C9: =VLOOKUP($B9,FSADB!$A$1:$D$751,2,FALSE) -> #N/A | D9: =VLOOKUP($B9,FSADB!$A$1:$D$751,3,FALSE) -> #N/A | E9: =VLOOKUP($B9,FSADB!$A$1:$D$751,4,FALSE) -> #N/A | G9: =VLOOKUP($F9,FSADB!$A$1:$D$751,2,FALSE) -> #N/A | H9: =VLOOKUP($F9,FSADB!$A$1:$D$751,3,FALSE) -> #N/A | I9: =VLOOKUP($F9,FSADB!$A$1:$D$751,4,FALSE) -> #N/A
A10: =SUM(A9+1) -> 5 | C10: =VLOOKUP($B10,FSADB!$A$1:$D$751,2,FALSE) -> #N/A | D10: =VLOOKUP($B10,FSADB!$A$1:$D$751,3,FALSE) -> #N/A | E10: =VLOOKUP($B10,FSADB!$A$1:$D$751,4,FALSE) -> #N/A | G10: =VLOOKUP($F10,FSADB!$A$1:$D$751,2,FALSE) -> #N/A | H10: =VLOOKUP($F10,FSADB!$A$1:$D$751,3,FALSE) -> #N/A | I10: =VLOOKUP($F10,FSADB!$A$1:$D$751,4,FALSE) -> #N/A
A11: =SUM(A10+1) -> 6 | C11: =VLOOKUP($B11,FSADB!$A$1:$D$751,2,FALSE) -> #N/A | D11: =VLOOKUP($B11,FSADB!$A$1:$D$751,3,FALSE) -> #N/A | E11: =VLOOKUP($B11,FSADB!$A$1:$D$751,4,FALSE) -> #N/A | G11: =VLOOKUP($F11,FSADB!$A$1:$D$751,2,FALSE) -> #N/A | H11: =VLOOKUP($F11,FSADB!$A$1:$D$751,3,FALSE) -> #N/A | I11: =VLOOKUP($F11,FSADB!$A$1:$D$751,4,FALSE) -> #N/A
A12: =SUM(A11+1) -> 7 | C12: =VLOOKUP($B12,FSADB!$A$1:$D$751,2,FALSE) -> #N/A | D12: =VLOOKUP($B12,FSADB!$A$1:$D$751,3,FALSE) -> #N/A | E12: =VLOOKUP($B12,FSADB!$A$1:$D$751,4,FALSE) -> #N/A | G12: =VLOOKUP($F12,FSADB!$A$1:$D$751,2,FALSE) -> #N/A | H12: =VLOOKUP($F12,FSADB!$A$1:$D$751,3,FALSE) -> #N/A | I12: =VLOOKUP($F12,FSADB!$A$1:$D$751,4,FALSE) -> #N/A
A13: =SUM(A12+1) -> 8 | C13: =VLOOKUP($B13,FSADB!$A$1:$D$751,2,FALSE) -> #N/A | D13: =VLOOKUP($B13,FSADB!$A$1:$D$751,3,FALSE) -> #N/A | E13: =VLOOKUP($B13,FSADB!$A$1:$D$751,4,FALSE) -> #N/A | G13: =VLOOKUP($F13,FSADB!$A$1:$D$751,2,FALSE) -> #N/A | H13: =VLOOKUP($F13,FSADB!$A$1:$D$751,3,FALSE) -> #N/A | I13: =VLOOKUP($F13,FSADB!$A$1:$D$751,4,FALSE) -> #N/A
A14: =SUM(A13+1) -> 9 | C14: =VLOOKUP($B14,FSADB!$A$1:$D$751,2,FALSE) -> #N/A | D14: =VLOOKUP($B14,FSADB!$A$1:$D$751,3,FALSE) -> #N/A | E14: =VLOOKUP($B14,FSADB!$A$1:$D$751,4,FALSE) -> #N/A | G14: =VLOOKUP($F14,FSADB!$A$1:$D$751,2,FALSE) -> #N/A | H14: =VLOOKUP($F14,FSADB!$A$1:$D$751,3,FALSE) -> #N/A | I14: =VLOOKUP($F14,FSADB!$A$1:$D$751,4,FALSE) -> #N/A
A15: =SUM(A14+1) -> 10 | C15: =VLOOKUP($B15,FSADB!$A$1:$D$751,2,FALSE) -> #N/A | D15: =VLOOKUP($B15,FSADB!$A$1:$D$751,3,FALSE) -> #N/A | E15: =VLOOKUP($B15,FSADB!$A$1:$D$751,4,FALSE) -> #N/A | G15: =VLOOKUP($F15,FSADB!$A$1:$D$751,2,FALSE) -> #N/A | H15: =VLOOKUP($F15,FSADB!$A$1:$D$751,3,FALSE) -> #N/A | I15: =VLOOKUP($F15,FSADB!$A$1:$D$751,4,FALSE) -> #N/A
A16: =SUM(A15+1) -> 11 | C16: =VLOOKUP($B16,FSADB!$A$1:$D$751,2,FALSE) -> #N/A | D16: =VLOOKUP($B16,FSADB!$A$1:$D$751,3,FALSE) -> #N/A | E16: =VLOOKUP($B16,FSADB!$A$1:$D$751,4,FALSE) -> #N/A | G16: =VLOOKUP($F16,FSADB!$A$1:$D$751,2,FALSE) -> #N/A | H16: =VLOOKUP($F16,FSADB!$A$1:$D$751,3,FALSE) -> #N/A | I16: =VLOOKUP($F16,FSADB!$A$1:$D$751,4,FALSE) -> #N/A
A17: =SUM(A16+1) -> 12 | C17: =VLOOKUP($B17,FSADB!$A$1:$D$751,2,FALSE) -> #N/A | D17: =VLOOKUP($B17,FSADB!$A$1:$D$751,3,FALSE) -> #N/A | E17: =VLOOKUP($B17,FSADB!$A$1:$D$751,4,FALSE) -> #N/A | G17: =VLOOKUP($F17,FSADB!$A$1:$D$751,2,FALSE) -> #N/A | H17: =VLOOKUP($F17,FSADB!$A$1:$D$751,3,FALSE) -> #N/A | I17: =VLOOKUP($F17,FSADB!$A$1:$D$751,4,FALSE) -> #N/A
A18: =SUM(A17+1) -> 13 | C18: =VLOOKUP($B18,FSADB!$A$1:$D$751,2,FALSE) -> #N/A | D18: =VLOOKUP($B18,FSADB!$A$1:$D$751,3,FALSE) -> #N/A | E18: =VLOOKUP($B18,FSADB!$A$1:$D$751,4,FALSE) -> #N/A | G18: =VLOOKUP($F18,FSADB!$A$1:$D$751,2,FALSE) -> #N/A | H18: =VLOOKUP($F18,FSADB!$A$1:$D$751,3,FALSE) -> #N/A | I18: =VLOOKUP($F18,FSADB!$A$1:$D$751,4,FALSE) -> #N/A
... A33: =SUM(A32+1) -> 28 | C33: =VLOOKUP($B33,FSADB!$A$1:$D$751,2,FALSE) -> #N/A | D33: =VLOOKUP($B33,FSADB!$A$1:$D$751,3,FALSE) -> #N/A | E33: =VLOOKUP($B33,FSADB!$A$1:$D$751,4,FALSE) -> #N/A | G33: =VLOOKUP($F33,FSADB!$A$1:$D$751,2,FALSE) -> #N/A | H33: =VLOOKUP($F33,FSADB!$A$1:$D$751,3,FALSE) -> #N/A | I33: =VLOOKUP($F33,FSADB!$A$1:$D$751,4,FALSE) -> #N/A

Sheet FSADB
A1: FSA # | B1: Last Name | C1: First Name | D1: Club
A2: 210 | B2: Boskovitch | C2: Mike | D2: Parkwood Oaks
A3: 280 | B3: Burrell | C3: Rich | D3: Deland
A4: 820 | B4: Hanke ^ | C4: Doris | D4: Hawthorne
A5: 1176 | B5: Lohbusch * | C5: Marion | D5: Hawthorne
A6: 1536 | B6: Pomainville | C6: Sid | D6: Coronado-Mainland
A7: 1961 | B7: Upson * | C7: Sharon | D7: Hawthorne
A8: 2094 | B8: Williamson * | C8: Stan | D8: Coronado-Mainland
A9: 2155 | B9: Triplett * | C9: Edna | D9: Coronado-Mainland
A10: 2357 | B10: Wade | C10: Philip | D10: Coronado-Mainland
A11: 2436 | B11: Hendrich | C11: Roy | D11: Southern Palms
A12: 2943 | B12: Foster | C12: Patty | D12: Tavares
A13: 3028 | B13: Mazzola | C13: Mario | D13: Candlelight
... A388: 8665 | B388: Tomas | C388: Agosto | D388: Clermont
